BEGIN:VCALENDAR
VERSION:2.0
PRODID:-//Ares Firearms Training - ECPv6.15.20//NONSGML v1.0//EN
CALSCALE:GREGORIAN
METHOD:PUBLISH
X-ORIGINAL-URL:https://aresdefenseinst.com
X-WR-CALDESC:Events for Ares Firearms Training
REFRESH-INTERVAL;VALUE=DURATION:PT1H
X-Robots-Tag:noindex
X-PUBLISHED-TTL:PT1H
BEGIN:VTIMEZONE
TZID:America/Boise
BEGIN:DAYLIGHT
TZOFFSETFROM:-0700
TZOFFSETTO:-0600
TZNAME:MDT
DTSTART:20250309T090000
END:DAYLIGHT
BEGIN:STANDARD
TZOFFSETFROM:-0600
TZOFFSETTO:-0700
TZNAME:MST
DTSTART:20251102T080000
END:STANDARD
BEGIN:DAYLIGHT
TZOFFSETFROM:-0700
TZOFFSETTO:-0600
TZNAME:MDT
DTSTART:20260308T090000
END:DAYLIGHT
BEGIN:STANDARD
TZOFFSETFROM:-0600
TZOFFSETTO:-0700
TZNAME:MST
DTSTART:20261101T080000
END:STANDARD
BEGIN:DAYLIGHT
TZOFFSETFROM:-0700
TZOFFSETTO:-0600
TZNAME:MDT
DTSTART:20270314T090000
END:DAYLIGHT
BEGIN:STANDARD
TZOFFSETFROM:-0600
TZOFFSETTO:-0700
TZNAME:MST
DTSTART:20271107T080000
END:STANDARD
END:VTIMEZONE
BEGIN:VEVENT
DTSTART;TZID=America/Boise:20260411T083000
DTEND;TZID=America/Boise:20260411T173000
DTSTAMP:20260421T095503
CREATED:20260130T174150Z
LAST-MODIFIED:20260130T174150Z
UID:10000424-1775896200-1775928600@aresdefenseinst.com
SUMMARY:Idaho Enhanced Concealed Weapons License
DESCRIPTION:This 8-hour class is a comprehensive training course designed to educate individuals on the laws and regulations surrounding the carrying of concealed firearms\, taught by an Idaho Licensed Attorney\, and essential topics such as the use of force\, firearms safety\, and the proper handling and storage of firearms. \nStudents will participate in a live-fire range session where they should expect to fire approximately 100 rounds of ammunition. Students will shoot from the holster\, practice pistol malfunction recovery\, shoot from cover/concealment and move and shoot. The classroom portion of the class will follow the live-fire range session. \n\nIn-Class Time: 5 Hours\nRange Time: 3 Hours\nPrice: $150\n\nPlease note a minimum of 4 registered students is required to run the course.
URL:https://aresdefenseinst.com/event/idaho-enhanced-concealed-weapons-license-2/
LOCATION:Impact Guns\, 11655 W Executive Dr.\, Boise\, ID\, 83713\, United States
CATEGORIES:Idaho Enhanced Concealed Weapons License (ECWL)
ATTACH;FMTTYPE=image/jpeg:https://aresdefenseinst.com/wp-content/uploads/2024/03/course-banner-concealed-3.jpg
ORGANIZER;CN="Ares Defense Institute":MAILTO:info@aresdefenseinst.com
GEO:43.6086997;-116.3277745
X-APPLE-STRUCTURED-LOCATION;VALUE=URI;X-ADDRESS=Impact Guns 11655 W Executive Dr. Boise ID 83713 United States;X-APPLE-RADIUS=500;X-TITLE=11655 W Executive Dr.:geo:-116.3277745,43.6086997
END:VEVENT
END:VCALENDAR